BEGIN:VCALENDAR
VERSION:2.0
PRODID:-//AudioTheme 2.3.8
BEGIN:VEVENT
UID:urn:uuid:a378650c-5b15-4398-a91a-3e2cf9429fc6
URL:https://thundercover.co/shows/2024-07-19/
DTSTART;TZID=GMT:20240719T170000
SUMMARY:Camping de Vidy - Lausanne (CH)
LOCATION:Camping de Vidy\, Chemin du Camping 3\, Lausanne\, \, Suisse\, 1007
END:VEVENT
END:VCALENDAR
