BEGIN:VCALENDAR
VERSION:2.0
PRODID:-//AudioTheme 2.3.8
BEGIN:VEVENT
UID:urn:uuid:1aeeda43-1267-407e-a6f2-40337acc76b2
URL:https://thundercover.co/shows/2024-08-01/
DTSTART;TZID=GMT:20240801T100000
SUMMARY:Fête du 1er Août à Champéry (CH)
LOCATION:Champéry\, Rue du Village 43\, Champéry\, \, Suisse\, 1874
END:VEVENT
END:VCALENDAR
