BEGIN:VCALENDAR
VERSION:2.0
PRODID:-//AudioTheme 2.3.8
BEGIN:VEVENT
UID:urn:uuid:fab2bb41-7b93-4c5a-b102-10d329f70b1f
URL:https://thundercover.co/shows/2024-08-31/
DTSTART;TZID=GMT:20240831T170000
SUMMARY:Suscévaz (CH)
LOCATION:Suscévaz\, Suscévaz\, \, Suisse\, 1437
END:VEVENT
END:VCALENDAR
