BEGIN:VCALENDAR
VERSION:2.0
PRODID:-//AudioTheme 2.3.8
BEGIN:VEVENT
UID:urn:uuid:cb63ae11-94b9-400a-9ef5-bfe55f2c77fc
URL:https://thundercover.co/shows/2024-09-07/
DTSTART;TZID=GMT:20240907T170000
SUMMARY:Glacier 3000 (CH)
LOCATION:Glacier 3000\, Col du Pillon\, Les Diablerets\, \, Suisse\, 1865
END:VEVENT
END:VCALENDAR
