BEGIN:VCALENDAR
VERSION:2.0
PRODID:-//AudioTheme 2.3.8
BEGIN:VEVENT
UID:urn:uuid:51f0d1fe-2c2a-42c0-b539-99014c60a0b8
URL:https://thundercover.co/shows/3121-resto-bar-vevey-ch/
DTSTART;TZID=GMT:20210731T170000
SUMMARY:3121 Resto & Bar - Vevey (CH)
LOCATION:3121 Resto & Bar\, Pl. de l'Ancien-Port 8\, Vevey\, \, Suisse\, 1800
END:VEVENT
END:VCALENDAR
