BEGIN:VCALENDAR
VERSION:2.0
PRODID:-//AudioTheme 2.3.8
BEGIN:VEVENT
UID:urn:uuid:6cb2b8b0-ef1c-4980-ada3-173196ba4713
URL:https://thundercover.co/shows/3121-vevey-ch/
DTSTART;TZID=GMT:20220730T160000
SUMMARY:3121 Resto & Bar – Vevey (CH)
LOCATION:3121 Resto & Bar\, Pl. de l'Ancien-Port 8\, Vevey\, \, Suisse\, 1800
END:VEVENT
END:VCALENDAR
