BEGIN:VCALENDAR
VERSION:2.0
PRODID:-//AudioTheme 2.3.8
BEGIN:VEVENT
UID:urn:uuid:da7c5834-e31d-4f58-950d-05272d3f78cf
URL:https://thundercover.co/shows/base-bar-lausanne-ch/
DTSTART;TZID=GMT:20211211T180000
SUMMARY:Base Bar - Lausanne (CH)
LOCATION:Base Bar\, Av. de Sévelin 46\, Lausanne\, \, Suisse\, 1004
END:VEVENT
END:VCALENDAR
