BEGIN:VCALENDAR
VERSION:2.0
PRODID:-//AudioTheme 2.3.8
BEGIN:VEVENT
UID:urn:uuid:553fd753-d2e4-45b4-8d0a-d9941be8ba90
URL:https://thundercover.co/shows/camping-de-vidy-lausanne-ch-2/
DTSTART;TZID=GMT:20250725T170000
SUMMARY:Camping de Vidy - Lausanne (CH)
LOCATION:Camping de Vidy\, Chemin du Camping 3\, Lausanne\, \, Suisse\, 1007
END:VEVENT
END:VCALENDAR
