BEGIN:VCALENDAR
VERSION:2.0
PRODID:-//AudioTheme 2.3.8
BEGIN:VEVENT
UID:urn:uuid:6bbab20e-b842-4297-9a41-eabf41832106
URL:https://thundercover.co/shows/camping-de-vidy-lausanne-ch/
DTSTART;TZID=GMT:20220715T170000
SUMMARY:Camping de Vidy – Lausanne (CH)
LOCATION:Camping de Vidy\, Chemin du Camping 3\, Lausanne\, \, Suisse\, 1007
END:VEVENT
END:VCALENDAR
