BEGIN:VCALENDAR
VERSION:2.0
PRODID:-//AudioTheme 2.3.8
BEGIN:VEVENT
UID:urn:uuid:126a7329-cc67-491f-9349-306c88e0ff0b
URL:https://thundercover.co/shows/comptoir-dyverdon-ch-2/
DTSTART;TZID=GMT:20240315T200000
SUMMARY:Comptoir d'Yverdon (CH)
LOCATION:Comptoir d'Yverdon\, Yverdon\, \, Suisse
END:VEVENT
END:VCALENDAR
