BEGIN:VCALENDAR
VERSION:2.0
PRODID:-//AudioTheme 2.3.8
BEGIN:VEVENT
UID:urn:uuid:8c546501-e917-4fb7-878e-c49d4abe8864
URL:https://thundercover.co/shows/comptoir-dyverdon-ch/
DTSTART;TZID=GMT:20240323T210000
SUMMARY:Comptoir d'Yverdon (CH)
LOCATION:Comptoir d'Yverdon\, Yverdon\, \, Suisse
END:VEVENT
END:VCALENDAR
