BEGIN:VCALENDAR
VERSION:2.0
PRODID:-//AudioTheme 2.3.8
BEGIN:VEVENT
UID:urn:uuid:6a1e3915-1513-4df8-aa81-d307b10b1cb4
URL:https://thundercover.co/shows/concert-a-yvonand-details-suivent/
DTSTART;TZID=GMT:20240731T193000
SUMMARY:Parc de l'Hotel de Ville - Yvonand (CH)
LOCATION:Parc de l'Hotel de Ville - Yvonand\, Grand'Rue 14\, Yvonand\, \, Suisse\, 1462
END:VEVENT
END:VCALENDAR
