BEGIN:VCALENDAR
VERSION:2.0
PRODID:-//AudioTheme 2.3.8
BEGIN:VEVENT
UID:urn:uuid:f782483b-0288-442c-b7f7-67863419c49b
URL:https://thundercover.co/shows/concerts-sur-les-quais-de-lutry-ch/
DTSTART;TZID=GMT:20220714T160000
SUMMARY:Concerts sur les quais de Lutry (CH)
LOCATION:Quais de Lutry\, Lutry\, \, Suisse\, 1095
END:VEVENT
END:VCALENDAR
