BEGIN:VCALENDAR
VERSION:2.0
PRODID:-//AudioTheme 2.3.8
BEGIN:VEVENT
UID:urn:uuid:7d4984e7-0754-4cb0-97f4-2beaf7165939
URL:https://thundercover.co/shows/festival-pour-le-tour-de-france-aigle-ch/
DTSTART;TZID=GMT:20220709T170000
SUMMARY:Festival pour le Tour de France - Aigle (CH)
LOCATION:Etape du Tour de France à Aigle\, Place du Marché\, Aigle\, \, Suisse\, 1860
END:VEVENT
END:VCALENDAR
