BEGIN:VCALENDAR
VERSION:2.0
PRODID:-//AudioTheme 2.3.8
BEGIN:VEVENT
UID:urn:uuid:d3fb72cb-aa4e-466d-85fd-cb852d69e585
URL:https://thundercover.co/shows/festival-zicabret-bretigny-ch/
DTSTART;TZID=GMT:20230624T200000
SUMMARY:Festival Zicabret - Bretigny (CH)
LOCATION:Festival Zicabret\, Bretigny-sur-Morrens\, \, Suisse\, 1053
END:VEVENT
END:VCALENDAR
