BEGIN:VCALENDAR
VERSION:2.0
PRODID:-//AudioTheme 2.3.8
BEGIN:VEVENT
UID:urn:uuid:aa981eb1-51ee-4693-9750-09f425525a22
URL:https://thundercover.co/shows/fete-du-1er-aout-a-champery-ch-2/
DTSTART;TZID=GMT:20230801T100000
SUMMARY:Fête du 1er Août à Champéry (CH)
LOCATION:Champéry\, Rue du Village 43\, Champéry\, \, Suisse\, 1874
END:VEVENT
END:VCALENDAR
