BEGIN:VCALENDAR
VERSION:2.0
PRODID:-//AudioTheme 2.3.8
BEGIN:VEVENT
UID:urn:uuid:952fec07-3f3b-49f8-8a25-9a35d2dabf59
URL:https://thundercover.co/shows/fete-du-1er-aout-a-champery-ch/
DTSTART;TZID=GMT:20220801T100000
SUMMARY:Fête du 1er Août à Champéry (CH)
LOCATION:Champéry\, Rue du Village 43\, Champéry\, \, Suisse\, 1874
END:VEVENT
END:VCALENDAR
