BEGIN:VCALENDAR
VERSION:2.0
PRODID:-//AudioTheme 2.3.8
BEGIN:VEVENT
UID:urn:uuid:8f39fc46-1617-401d-bf40-23630c527547
URL:https://thundercover.co/shows/galion-pub-cheseaux-ch/
DTSTART;TZID=GMT:20211126T190000
SUMMARY:Galion Pub - Cheseaux (CH)
LOCATION:Galion Pub\, Rte de Genève 1\, Cheseaux-sur-Lausanne\, \, Suisse\, 1033
END:VEVENT
END:VCALENDAR
