BEGIN:VCALENDAR
VERSION:2.0
PRODID:-//AudioTheme 2.3.8
BEGIN:VEVENT
UID:urn:uuid:999add3c-05cb-4764-a1ad-842a2eae69da
URL:https://thundercover.co/shows/king-size-pub-lausanne-ch/
DTSTART;TZID=GMT:20230324T180000
SUMMARY:King Size Pub – Lausanne (CH)
LOCATION:King Size Pub\, Rue du Port-Franc 16\, Lausanne\, \, Suisse\, 1003
END:VEVENT
END:VCALENDAR
