BEGIN:VCALENDAR
VERSION:2.0
PRODID:-//AudioTheme 2.3.8
BEGIN:VEVENT
UID:urn:uuid:179ac8b8-c6c4-4d29-a2ee-eb4d8f58bfc7
URL:https://thundercover.co/shows/le-leonardo-lausanne-ch-2/
DTSTART;TZID=GMT:20230701T170000
SUMMARY:Le Leonardo - Lausanne (CH)
LOCATION:Le Leonardo\, Voie du Chariot 6\, Lausanne\, \, 1003
END:VEVENT
END:VCALENDAR
