BEGIN:VCALENDAR
VERSION:2.0
PRODID:-//AudioTheme 2.3.8
BEGIN:VEVENT
UID:urn:uuid:20a0191a-9696-4714-9ef6-9d6069472cc6
URL:https://thundercover.co/shows/le-leonardo-lausanne-ch-3/
DTSTART;TZID=GMT:20240830T170000
SUMMARY:Le Leonardo - Lausanne (CH)
LOCATION:Le Leonardo\, Voie du Chariot 6\, Lausanne\, \, 1003
END:VEVENT
END:VCALENDAR
