BEGIN:VCALENDAR
VERSION:2.0
PRODID:-//AudioTheme 2.3.8
BEGIN:VEVENT
UID:urn:uuid:77dbac8a-bd0c-4a58-8755-bb713bfe96ba
URL:https://thundercover.co/shows/le-leonardo-lausanne-ch-4/
DTSTART;TZID=GMT:20240824T170000
SUMMARY:Le Leonardo - Lausanne (CH)
LOCATION:Le Leonardo\, Voie du Chariot 6\, Lausanne\, \, 1003
END:VEVENT
END:VCALENDAR
