BEGIN:VCALENDAR
VERSION:2.0
PRODID:-//AudioTheme 2.3.8
BEGIN:VEVENT
UID:urn:uuid:960ce000-accf-4a3f-ac14-a2791f84d172
URL:https://thundercover.co/shows/perbacco-lausanne-ch/
DTSTART;TZID=GMT:20210826T170000
SUMMARY:perBacco ! - Lausanne (CH)
LOCATION:perBacco !\, Rue du Rôtillon\, Lausanne\, \, Suisse\, 1003
END:VEVENT
END:VCALENDAR
