BEGIN:VCALENDAR
VERSION:2.0
PRODID:-//AudioTheme 2.3.8
BEGIN:VEVENT
UID:urn:uuid:74b292cd-f936-4ab3-a122-b771de33606f
URL:https://thundercover.co/shows/tactichall-evionnaz-ch/
DTSTART;TZID=GMT:20230707T170000
SUMMARY:Tactic'Hall - Evionnaz (CH)
LOCATION:Tactic'Hall\, Route du Simplon 29\, Evionnaz\, \, Suisse\, 1902
END:VEVENT
END:VCALENDAR
