BEGIN:VCALENDAR
VERSION:2.0
PRODID:-//AudioTheme 2.3.8
BEGIN:VEVENT
UID:urn:uuid:ddacd3a8-7ca1-4a04-a34c-8d5f7e12db51
URL:https://thundercover.co/shows/thunderclub-2/
DTSTART;TZID=GMT:20231122T180000
SUMMARY:ThunderClub
LOCATION:ThunderClub\, En Budron D6\, Le Mont-sur-Lausanne\, \, Suisse\, 1052
END:VEVENT
END:VCALENDAR
