BEGIN:VCALENDAR
VERSION:2.0
PRODID:-//AudioTheme 2.3.8
BEGIN:VEVENT
UID:urn:uuid:eb103587-13fb-436e-b1ef-969a3777ddad
URL:https://thundercover.co/shows/thunderclub/
DTSTART;TZID=GMT:20211117T180000
SUMMARY:ThunderClub
LOCATION:ThunderClub\, En Budron D6\, Le Mont-sur-Lausanne\, \, Suisse\, 1052
END:VEVENT
END:VCALENDAR
